BEGIN:VCALENDAR
VERSION:2.0
PRODID:-//Mirna Wael - ECPv6.6.3//NONSGML v1.0//EN
CALSCALE:GREGORIAN
METHOD:PUBLISH
X-ORIGINAL-URL:https://mirnawael.com
X-WR-CALDESC:Events for Mirna Wael
REFRESH-INTERVAL;VALUE=DURATION:PT1H
X-Robots-Tag:noindex
X-PUBLISHED-TTL:PT1H
BEGIN:VTIMEZONE
TZID:UTC
BEGIN:STANDARD
TZOFFSETFROM:+0000
TZOFFSETTO:+0000
TZNAME:UTC
DTSTART:20240101T000000
END:STANDARD
END:VTIMEZONE
BEGIN:VEVENT
DTSTART;TZID=UTC:20240901T080000
DTEND;TZID=UTC:20240908T080000
DTSTAMP:20260425T104525
CREATED:20190514T131349Z
LAST-MODIFIED:20240808T095022Z
UID:1272-1725177600-1725782400@mirnawael.com
SUMMARY:Digital Business
DESCRIPTION:[vc_row][vc_column][vc_column_text]Lorem gravida nibh vel veliauctor aliquenean sollicitudin\, lorem quis bibendum auctor\, nisi elit consequat ipsutis sem nibh id elit. Duis sed odio sit amet nibh vulputate cursus a sit amet mauris. Morbi accumsan ipsum velit. Nam nec tellus a odio tincidunt auctor a ornare odio. Sed non mauris vitae erat consequat auctor eu in elit. Class aptent taciti sociosqu ad litora torquent per conubia nostra\, per inceptos himenaeos. Mauris in erat justo. Nullam ac urnamiumimus felis dapibus sit amet. Sed non neque elit. Lorem gravida nibh vel veliauctor aliquenean sollicitudin\, lorem quis auctor.[/vc_column_text][/vc_column][/vc_row]
URL:https://mirnawael.com/event/digital-business/
LOCATION:h1-img-04
CATEGORIES:Creative
ATTACH;FMTTYPE=image/jpeg:https://mirnawael.com/wp-content/uploads/2019/05/events-img-07.jpg
ORGANIZER;CN="Harvard Education":MAILTO:everlead@mikado-themes.com
END:VEVENT
BEGIN:VEVENT
DTSTART;TZID=UTC:20240920T080000
DTEND;TZID=UTC:20240930T080000
DTSTAMP:20260425T104525
CREATED:20190514T133919Z
LAST-MODIFIED:20240808T095035Z
UID:1297-1726819200-1727683200@mirnawael.com
SUMMARY:Business Summit
DESCRIPTION:[vc_row][vc_column][vc_column_text]Lorem gravida nibh vel veliauctor aliquenean sollicitudin\, lorem quis bibendum auctor\, nisi elit consequat ipsutis sem nibh id elit. Duis sed odio sit amet nibh vulputate cursus a sit amet mauris. Morbi accumsan ipsum velit. Nam nec tellus a odio tincidunt auctor a ornare odio. Sed non mauris vitae erat consequat auctor eu in elit. Class aptent taciti sociosqu ad litora torquent per conubia nostra\, per inceptos himenaeos. Mauris in erat justo. Nullam ac urnamiumimus felis dapibus sit amet. Sed non neque elit. Lorem gravida nibh vel veliauctor aliquenean sollicitudin\, lorem quis auctor.[/vc_column_text][/vc_column][/vc_row]
URL:https://mirnawael.com/event/business-summit/
LOCATION:h1-img-04
CATEGORIES:Creative
ATTACH;FMTTYPE=image/jpeg:https://mirnawael.com/wp-content/uploads/2019/05/about-me-event-02.jpg
ORGANIZER;CN="Harvard Education":MAILTO:everlead@mikado-themes.com
END:VEVENT
BEGIN:VEVENT
DTSTART;TZID=UTC:20241001T090000
DTEND;TZID=UTC:20241006T170000
DTSTAMP:20260425T104525
CREATED:20190606T122114Z
LAST-MODIFIED:20240808T094938Z
UID:2913-1727773200-1728234000@mirnawael.com
SUMMARY:London Coaching
DESCRIPTION:[vc_row][vc_column][vc_column_text]Lorem gravida nibh vel veliauctor aliquenean sollicitudin\, lorem quis bibendum auctor\, nisi elit consequat ipsutis sem nibh id elit. Duis sed odio sit amet nibh vulputate cursus a sit amet mauris. Morbi accumsan ipsum velit. Nam nec tellus a odio tincidunt auctor a ornare odio. Sed non mauris vitae erat consequat auctor eu in elit. Class aptent taciti sociosqu ad litora torquent per conubia nostra\, per inceptos himenaeos. Mauris in erat justo. Nullam ac urnamiumimus felis dapibus sit amet. Sed non neque elit. Lorem gravida nibh vel veliauctor aliquenean sollicitudin\, lorem quis auctor.[/vc_column_text][/vc_column][/vc_row]
URL:https://mirnawael.com/event/london-coaching/
LOCATION:Businesswind\, Cambridge\, MA 02138\, USA\, United States
CATEGORIES:Mentorship
ATTACH;FMTTYPE=image/jpeg:https://mirnawael.com/wp-content/uploads/2019/05/h1-img-07.jpg
ORGANIZER;CN="Harvard Education":MAILTO:everlead@mikado-themes.com
END:VEVENT
BEGIN:VEVENT
DTSTART;TZID=UTC:20241016T090000
DTEND;TZID=UTC:20241016T170000
DTSTAMP:20260425T104525
CREATED:20190606T122438Z
LAST-MODIFIED:20240808T094953Z
UID:2916-1729069200-1729098000@mirnawael.com
SUMMARY:New York Coaching
DESCRIPTION:[vc_row][vc_column][vc_column_text]Lorem gravida nibh vel veliauctor aliquenean sollicitudin\, lorem quis bibendum auctor\, nisi elit consequat ipsutis sem nibh id elit. Duis sed odio sit amet nibh vulputate cursus a sit amet mauris. Morbi accumsan ipsum velit. Nam nec tellus a odio tincidunt auctor a ornare odio. Sed non mauris vitae erat consequat auctor eu in elit. Class aptent taciti sociosqu ad litora torquent per conubia nostra\, per inceptos himenaeos. Mauris in erat justo. Nullam ac urnamiumimus felis dapibus sit amet. Sed non neque elit. Lorem gravida nibh vel veliauctor aliquenean sollicitudin\, lorem quis auctor.[/vc_column_text][/vc_column][/vc_row]
URL:https://mirnawael.com/event/new-york-coaching/
LOCATION:Businesswind\, Cambridge\, MA 02138\, USA\, United States
CATEGORIES:Mentorship
ATTACH;FMTTYPE=image/jpeg:https://mirnawael.com/wp-content/uploads/2019/06/h1-img-08.jpg
ORGANIZER;CN="Harvard Education":MAILTO:everlead@mikado-themes.com
END:VEVENT
BEGIN:VEVENT
DTSTART;TZID=UTC:20241024T090000
DTEND;TZID=UTC:20241026T170000
DTSTAMP:20260425T104525
CREATED:20190606T122539Z
LAST-MODIFIED:20240808T095009Z
UID:2920-1729760400-1729962000@mirnawael.com
SUMMARY:Melbourne Coaching
DESCRIPTION:[vc_row][vc_column][vc_column_text]Lorem gravida nibh vel veliauctor aliquenean sollicitudin\, lorem quis bibendum auctor\, nisi elit consequat ipsutis sem nibh id elit. Duis sed odio sit amet nibh vulputate cursus a sit amet mauris. Morbi accumsan ipsum velit. Nam nec tellus a odio tincidunt auctor a ornare odio. Sed non mauris vitae erat consequat auctor eu in elit. Class aptent taciti sociosqu ad litora torquent per conubia nostra\, per inceptos himenaeos. Mauris in erat justo. Nullam ac urnamiumimus felis dapibus sit amet. Sed non neque elit. Lorem gravida nibh vel veliauctor aliquenean sollicitudin\, lorem quis auctor.[/vc_column_text][/vc_column][/vc_row]
URL:https://mirnawael.com/event/melbourne-coaching/
LOCATION:Businesswind\, Cambridge\, MA 02138\, USA\, United States
CATEGORIES:Mentorship
ATTACH;FMTTYPE=image/jpeg:https://mirnawael.com/wp-content/uploads/2019/06/h1-img-09.jpg
ORGANIZER;CN="Harvard Education":MAILTO:everlead@mikado-themes.com
END:VEVENT
BEGIN:VEVENT
DTSTART;TZID=UTC:20241101T080000
DTEND;TZID=UTC:20291129T170000
DTSTAMP:20260425T104525
CREATED:20190514T100529Z
LAST-MODIFIED:20240808T094921Z
UID:1142-1730448000-1890666000@mirnawael.com
SUMMARY:Improving quality
DESCRIPTION:[vc_row][vc_column][vc_column_text]Lorem gravida nibh vel veliauctor aliquenean sollicitudin\, lorem quis bibendum auctor\, nisi elit consequat ipsutis sem nibh id elit. Duis sed odio sit amet nibh vulputate cursus a sit amet mauris. Morbi accumsan ipsum velit. Nam nec tellus a odio tincidunt auctor a ornare odio. Sed non mauris vitae erat consequat auctor eu in elit. Class aptent taciti sociosqu ad litora torquent per conubia nostra\, per inceptos himenaeos. Mauris in erat justo. Nullam ac urnamiumimus felis dapibus sit amet. Sed non neque elit. Lorem gravida nibh vel veliauctor aliquenean sollicitudin\, lorem quis auctor.[/vc_column_text][/vc_column][/vc_row]
URL:https://mirnawael.com/event/improving-quality/
LOCATION:Businesswind\, Cambridge\, MA 02138\, USA\, United States
CATEGORIES:Business
ATTACH;FMTTYPE=image/jpeg:https://mirnawael.com/wp-content/uploads/2019/05/about-me-event-03.jpg
ORGANIZER;CN="Cambridge University":MAILTO:everlead@mikado-themes.com
END:VEVENT
END:VCALENDAR